BEGIN:VCALENDAR
VERSION:2.0
PRODID:spatie/icalendar-generator
DESCRIPTION:Veranstaltungen von Pfadfinder*innengruppe 6&amp;amp\;7 »Paxtu«
X-WR-CALDESC:Veranstaltungen von Pfadfinder*innengruppe 6&amp;amp\;7 »Paxtu«
REFRESH-INTERVAL;VALUE=DURATION:PT1440M
X-PUBLISHED-TTL:PT1440M
BEGIN:VTIMEZONE
TZID:Europe/Vienna
BEGIN:STANDARD
DTSTART:20251026T030000Z
TZOFFSETFROM:+0200
TZOFFSETTO:+0100
END:STANDARD
BEGIN:DAYLIGHT
DTSTART:20260329T020000Z
TZOFFSETFROM:+0100
TZOFFSETTO:+0200
END:DAYLIGHT
END:VTIMEZONE
BEGIN:VTIMEZONE
TZID:UTC
BEGIN:STANDARD
DTSTART:20250725T084130Z
TZOFFSETFROM:+0000
TZOFFSETTO:+0000
END:STANDARD
END:VTIMEZONE
BEGIN:VEVENT
UID:33-22
DTSTAMP:20260421T084130Z
SUMMARY:Thinking Day
LOCATION:
ORGANIZER;CN=admin:MAILTO:stefan.wratschko@posteo.at
RRULE:FREQ=YEARLY;BYMONTH=02;BYDAY=22;COUNT=50
DTSTART;TZID=Europe/Vienna;VALUE=DATE:20260222
DTEND;TZID=Europe/Vienna;VALUE=DATE:20260223
X-ALT-DESC;FMTTYPE=TEXT/HTML:Wird seit 1926 begangen. (www.wagggs.org)
CATEGORIES:Sonderereignis
URL;VALUE=URI:https://paxtu.at/kalender/?cid=mc-4ad168a0e1b2d9a00580d12880d
 87ea4&#038;mc_id=33&#038;vcal=33
METHOD:PUBLISH
END:VEVENT
END:VCALENDAR